BEGIN:VCALENDAR
VERSION:2.0
PRODID:-//Kulturni center Janeza Trdine - ECPv6.15.12.1//NONSGML v1.0//EN
CALSCALE:GREGORIAN
METHOD:PUBLISH
X-WR-CALNAME:Kulturni center Janeza Trdine
X-ORIGINAL-URL:https://kcjt.si
X-WR-CALDESC:Dogodki za Kulturni center Janeza Trdine
REFRESH-INTERVAL;VALUE=DURATION:PT1H
X-Robots-Tag:noindex
X-PUBLISHED-TTL:PT1H
BEGIN:VTIMEZONE
TZID:Europe/Ljubljana
BEGIN:DAYLIGHT
TZOFFSETFROM:+0100
TZOFFSETTO:+0200
TZNAME:CEST
DTSTART:20250330T010000
END:DAYLIGHT
BEGIN:STANDARD
TZOFFSETFROM:+0200
TZOFFSETTO:+0100
TZNAME:CET
DTSTART:20251026T010000
END:STANDARD
BEGIN:DAYLIGHT
TZOFFSETFROM:+0100
TZOFFSETTO:+0200
TZNAME:CEST
DTSTART:20260329T010000
END:DAYLIGHT
BEGIN:STANDARD
TZOFFSETFROM:+0200
TZOFFSETTO:+0100
TZNAME:CET
DTSTART:20261025T010000
END:STANDARD
BEGIN:DAYLIGHT
TZOFFSETFROM:+0100
TZOFFSETTO:+0200
TZNAME:CEST
DTSTART:20270328T010000
END:DAYLIGHT
BEGIN:STANDARD
TZOFFSETFROM:+0200
TZOFFSETTO:+0100
TZNAME:CET
DTSTART:20271031T010000
END:STANDARD
END:VTIMEZONE
BEGIN:VEVENT
DTSTART;VALUE=DATE:20260630
DTEND;VALUE=DATE:20260701
DTSTAMP:20260421T111459
CREATED:20250822T110051Z
LAST-MODIFIED:20250929T071731Z
UID:10000357-1782777600-1782863999@kcjt.si
SUMMARY:Muca Copatarica in nagajivi copatki na potepu
DESCRIPTION:Rok Predin (Staragara) / Slovenija 2024 / 10\,5 min / slovenščina / distribucija: Društvo slovenskega animiranega filma \n  \nDogodek traja 45 minut. \nIlustracija: Ančka Gošnik Godec \n  \nANIMIRANI FILM S FILMSKO IGRARIJO \n  \nMuca Copatarica je najbolj znana in priljubljena med pravljicami\, ki jih je napisala slovenska pedagoginja\, pisateljica in novinarka Peroci (1922–2001). Z ilustracijami Ančke Gošnik Godec (1927–2025) je prvič izšla leta 1957\, do danes pa je doživela več kot 30 ponatisov. Doma in v tujini je bila večkrat tudi uprizorjena kot lutkovna predstava. Tako kot druge pravljice Ele Peroci tudi ta pripoveduje o vsakdanjih stvareh\, ki so pomembne v otrokovem doživljanju sveta. \n  \nMuca Copatarica je ob 65-letnici dobila še animirano različico v kratkem filmu v režiji Roka Predina. Animirani film zvesto sledi kultni slovenski pravljici. \n  \nV Majhni vasi živijo otroci\, ki ne pospravljajo copatkov. Copatki zjutraj izginejo\, saj jih je odnesla Muca Copatarica. Otroci se podajo na pot v gozd\, da bi Muco prosili za svoje copatke. \n  \nOgledu filma bo sledila filmska igrarija Nagajivi copatki na potepu\, na kateri se bomo na igriv način spoznavali z Muco in spregovorili o copatkih. S čarobnim filmskim procesom animacije bomo nato pisane copatke pospravili v škatlo in spoznali proces nastajanja animiranih filmov.
URL:https://kcjt.si/dogodek/muca-copatarica-in-nagajivi-copatki-na-potepu-2/
LOCATION:Trdinova dvorana
CATEGORIES:Filmska umetnost,vrtec in 1. do 3. razred OŠ
ATTACH;FMTTYPE=image/png:https://kcjt.si/wp-content/uploads/Muca-copatarica-in-nagajivi-copatki-na-potepu_1.png
END:VEVENT
BEGIN:VEVENT
DTSTART;VALUE=DATE:20260630
DTEND;VALUE=DATE:20260701
DTSTAMP:20260421T111459
CREATED:20250822T110148Z
LAST-MODIFIED:20250929T071739Z
UID:10000358-1782777600-1782863999@kcjt.si
SUMMARY:Županova Micka
DESCRIPTION:Prešernovo gledališče Kranj \n  \nRežiser: Vito Taufer \nIgrajo: Vesna Pernarčič\, Borut Veselko\, Darja Reichman\, Tine Oman k. g.\, Rok Vihar k. g.\, Matjaž Višnar k. g.\, Pavel Rakovec k. g.\, Robert Kavčič k. g.\, Ciril Roblek k. g. \n  \nPredstava traja 60 minut in nima odmora. \nFoto: Damijan Švarc \n  \nUPRIZORITEV\, KI SE Z LAHKOTNO\, VIRTUOZNO RADOVEDNOSTJO IN PREFINJENO IRONIJO \nUKVARJA Z RESNIMI STEREOTIPI O ČLOVEŠKI NARAVI IN DRUŽBI \n  \nŽupanova Micka\, izvirna v narodnostnem nasprotju med kmečkim življem in plemstvom ter zgrajena na preprosti intrigi\, ki nadaljuje tradicijo klasične evropske komedije\, je prvi dramski poskus slovenskega dramatika\, zgodovinarja in šolnika Antona Tomaža Linharta (1756–1795) v slovenščini in prvo slovensko dramsko besedilo. Linhart jo je priredil iz predloge avstrijskega dramatika Josefa Richterja Podeželski mlin. Prvič je bila uprizorjena leta 1789 v Stanovskem gledališču na Kongresnem trgu v Ljubljani v predhodnici zgradbe\, v kateri danes domuje Slovenska filharmonija. \n  \nRežiser Vito Taufer je Micko otel prislovične zaprašenosti prvega slovenskega besedila\, ji zabrisal večno poudarjanje poteze razrednega antagonizma in iz komediografove preprostejše veseloigre ustvaril odrsko\, človeško in socialno domišljeno predstavo. Ta z ostro stiliziranimi dramskimi značaji in zapleti bistroumno hudomušno in blago nostalgično spregovori o trajnejših lastnostih in življenjskih gibalih v nas. \n  \nPredstava je bila premierno uprizorjena leta 2001\, navdušila pa je občinstvo v različnih krajih po Sloveniji\, očarala zamejske Slovence in gledalce v Srbiji ter se za večno vpisala v srca obiskovalcev na festivalih v Venezueli\, Dominikanski republiki in Argentini. Do danes je doživela več kot 300 ponovitev. \n  \nNAGRADI: \n\nvelika nagrada za najboljšo uprizoritev v celoti na 32. Tednu slovenske drame (Kranj\, 2002)\,\nnagrada zlati brk Roku Viharju za vlogo Anžeta na 11. Dnevih Zorana Radmilovića (Zaječar\, Srbija\, 2002).
URL:https://kcjt.si/dogodek/zupanova-micka-2/
LOCATION:Trdinova dvorana
CATEGORIES:4. do 9. razred OŠ,Filmska umetnost,srednje šole
ATTACH;FMTTYPE=image/jpeg:https://kcjt.si/wp-content/uploads/Zupanova-Micka_Damijan-Svarc_4_____________.jpg
END:VEVENT
BEGIN:VEVENT
DTSTART;VALUE=DATE:20260630
DTEND;VALUE=DATE:20260701
DTSTAMP:20260421T111459
CREATED:20250822T110209Z
LAST-MODIFIED:20250929T071748Z
UID:10000359-1782777600-1782863999@kcjt.si
SUMMARY:Radost
DESCRIPTION:Mestno gledališče ljubljansko in Mestno gledališče Ptuj \n  \nRežiser: Nejc Gazvoda \nIgrajo: Mirjam Korbar\, Matej Puc\, Klara Kuk\, Diana Kolenc k. g.\, Mojca Funkl\, Nina Rakovec\, Jernej Gašperin \n  \nPredstava traja dve uri in pet minut ter nima odmora. \nFoto: Peter Giodani \n  \nSODOBNA DRAMA O UPANJU MLADIH V BREZUPU SVETA \n  \nFilmski in gledališki režiser\, pisatelj in dramatik Nejc Gazvoda (1985) v dramskem besedilu Radost govori o izguba doma\, pa tudi pomanjkanju bližine\, za katerim trpijo dramski liki. V središču so stanovanjska kriza\, vrtoglave cene najemnin in s tem povezana negotovost ter obup mladih generacij\, ceneni literarni večeri\, generacijski konflikti\, nestrpnost iz pomanjkanja … A to so le izhodišča\, na podlagi katerih Gazvoda obravnava razpadanje vezi naše (in širše) družbe. Jedro drame je torej izguba doma na različnih ravneh\, bodisi da gre za odsotnost možnosti konkretnega doma zaradi previsokih cen nepremičnin ali za odsotnost pristnih vezi med ljudmi ter nezmožnost poklicne uresničitve zaradi različnih družbenih okoliščin. \n  \nŠestdesetletna frizerka Meta\, ki je nedavno izgubila priletno mamo\, zgornje nadstropje dotrajane hiše napol zastonj odda bivši študentki Maši in njeni sestri Juliji. Ti sta še zelo mladi\, vendar je njuna prihodnost povsem negotova\, pravzaprav o njej ni mogoče govoriti – obstaja samo s preživetjem obremenjena sedanjost\, ki ni navdihujoča. Vsi liki drame Radost\, med katerimi so še Metin stari prijatelj in sosed Aljoša\, avtor kultne zbirke otroških pesmic\, ki je pred leti kot marsikateri milenijec iz Ljubljane odšel v Berlin po boljše življenje\, a se Zahod ni izkazal za bistveno bolj perspektivno okolje\, samooklicana pisateljica in novinarka Polona\, izčrpana mama majhnih otrok Ela in Metin sin Lukas\, plavajo po svojih življenjih\, ne da bi se v njih zmogli odločiti za spremembo ali vsaj avtorefleksijo\, četudi oboje nujno potrebujejo.
URL:https://kcjt.si/dogodek/radost-2/
LOCATION:Trdinova dvorana
CATEGORIES:srednje šole,Uprizoritvena umetnost
ATTACH;FMTTYPE=image/jpeg:https://kcjt.si/wp-content/uploads/Radost__Peter-Giodani_2.jpg
END:VEVENT
BEGIN:VEVENT
DTSTART;VALUE=DATE:20260630
DTEND;VALUE=DATE:20260701
DTSTAMP:20260421T111459
CREATED:20250822T110214Z
LAST-MODIFIED:20250929T071756Z
UID:10000360-1782777600-1782863999@kcjt.si
SUMMARY:Boško in Admira
DESCRIPTION:Slovensko mladinsko gledališče \n  \nRežiserka: Živa Bizovičar \nIgrajo: Primož Bezjak\, Nataša Keser\, Boris Kos\, Kaja Petrovič\, Stane Tomazin \n  \nPredstava traja uro in 50 minut ter nima odmora. \nFoto: Dorian Šilec Petek \n  \nDOKUMENTARNA DRAMA\, V KATERI PRETRESLJIVA VOJNA FOTOGRAFIJA SPODBUDI H GLOBOKIM PREMISLEKOM \n  \nIzhodišče projekta Boško in Admira je vojna fotografija objetega mrtvega para na mostu Vrbanja. Muslimanka Admira Ismić in pravoslavec Boško Brkić sta leta 1993 poskušala zbežati iz okupiranega Sarajeva\, vendar ju je nekaj metrov pred mejo ustrelil še danes neznani ostrostrelec. Dva Američana\, fotograf Mark H. Milstein in novinar Kurt Schork\, sta par kljub nasprotovanju obeh družin poimenovala »sarajevska Romeo in Julija« in iz tragične smrti dveh mladih ljudi ustvarila senzacionalistično zgodbo\, iz njunih trupel pa podobo in simbol ljubezni\, ki jo je pokosila vojna. \n  \nUprizoritev tako bravurozno preide iz začetne kritike pop interpretacij zgodbe\, prek možne interpretacije dejanske zgodbe\, do končnega prizora\, v katerem jo vpne v celovit kontekst svetovnega ustroja\, ne da bi se pri tem na katerikoli točki pretvarjala\, da ve več od sprejemnikov\, več od ljudi\, ki so jo ustvarili. Boško in Admira se izrisuje kot za zdaj najboljše delo Žive Bizovičar in gotovo ena od najboljših uprizoritev Slovenskega mladinskega gledališča zadnjih let.  \n– Benjamin Zajc\, Delo \n  \nPredstava odstre ogromno brutalnih resnic in odpre veliko vprašanj\, na katera ne poda odgovorov in ne nakazuje ‘prave’ poti. Pokaže in dokaže le\, kakšen je svet v resnici\, ujet v zanke s ponavljajočimi se napakami. Pa ga lahko zares spremenimo? Avtorska ekipa je ustvarila pametno\, raziskovalno in močno gledališče\, ki z minimalnimi posegi in skromnimi elementi ustvari polno in čuteče popotovanje tako v emocionalnem\, zgodovinskem kot metaforičnem kontekstu. \n– Taja Lesjak Šilak\, MMC RTV Slovenija
URL:https://kcjt.si/dogodek/bosko-in-admira-2/
LOCATION:Trdinova dvorana
CATEGORIES:srednje šole,Uprizoritvena umetnost
ATTACH;FMTTYPE=image/jpeg:https://kcjt.si/wp-content/uploads/Bosko-in-Admira_Dorian-Silec-Petek_2-1.jpg
END:VEVENT
BEGIN:VEVENT
DTSTART;VALUE=DATE:20260630
DTEND;VALUE=DATE:20260701
DTSTAMP:20260421T111459
CREATED:20250822T110218Z
LAST-MODIFIED:20250929T071846Z
UID:10000361-1782777600-1782863999@kcjt.si
SUMMARY:Dnevnik Ane Frank
DESCRIPTION:Mini teater in Judovski kulturni center Ljubljana \n  \nRežiser: Vinko Möderndorfer \nIgrajo: Gaja Filač\, Saša Pavlin Stošić\, Medea Novak/Nika Korenjak\, Tadej Pišek\, Barbara Vidovič\, Aleš Kranjec\, Timotej Novaković \n  \nPredstava traja uro in 40 minut ter nima odmora. \nFoto: Miha Fras \n  \nZGODBA O BOLEČINI\, UPANJU IN POGUMU NAJSTNICE\, KI JI JE VOJNA UKRADLA OTROŠTVO – NEPRECENLJIV SPOMIN IN OPOMIN NA GROZOTE DRUGE SVETOVNE VOJNE \n  \nAna Frank\, rojena leta 1929 v Frankfurtu na Majni\, je leta 1933 s starši emigrirala v Amsterdam. Ko je nemški Wehrmacht leta 1940 napadel in okupiral Nizozemsko\, se je družina Ane Frank skupaj s štirimi drugimi skrila v hišo podjetja Otta Franka. V tem času je trinajstletna Ana svoje občutke in misli zaupala dnevniku\, v katerega je zapisovala vsakdanje življenje v skrivališču in strah pred tem\, da bi jih odkrili. Dnevnik se je končal 1. avgusta 1944: tri dni za tem so bili judovski prebivalci zadnje hiše ovadeni in aretirani\, družina Frank pa deportirana v Auschwitz. Ana\, njena sestra Margot in mati Edith so umrle v koncentracijskih taboriščih\, oče Otto je preživel. Po vojni je prejel hčerkin dnevnik in leta 1947 prvič objavil odlomke iz njega. Doslej je bila celotna različica dnevnika Ane Frank objavljena v več kot 80 jezikih. \n  \nDnevnik Ane Frank je eno najpomembnejših besedil dvajsetega stoletja. /…/ Dnevnik je tudi literarno pomembno delo. In deklica Anna je izjemno nadarjena opazovalka življenja in človeških značajev. V njenem pisanju čutimo velik pisateljski talent. /…/ Ob prebiranju dnevnika se nehote sprašujemo tudi o tem\, koliko talentov\, koliko Mozartov\, Beethovnov\, Michelangelov …\, koliko izjemnih pisateljev\, slikarjev lahko pokonča genocidna politika. Pa ne samo talentov\, koliko življenj\, in vsako življenje je vesolje\, je izginilo zaradi nespametnega sovraštva\, ki ga je generirala prav politika. Ne samo včasih. Tudi danes. Dnevnik Anne Frank je izjemno aktualno branje. Tudi danes živijo mladi in talentirani ljudje na pragu življenja in smrti. /…/ tudi danes neprestano živimo na robu holokavsta. Predvsem mlade generacije bi se morale tega bolj zavedati. /…/ . Annina zgodba je naša zgodba. Se dovolj zavedamo tega? \n– Vinko Möderndorfer\, režiser
URL:https://kcjt.si/dogodek/dnevnik-ane-frank-2/
LOCATION:Trdinova dvorana
CATEGORIES:srednje šole,Uprizoritvena umetnost
ATTACH;FMTTYPE=image/jpeg:https://kcjt.si/wp-content/uploads/Dnevnik-Ane-Frank_Miha-Fras_5.jpg
END:VEVENT
BEGIN:VEVENT
DTSTART;VALUE=DATE:20260630
DTEND;VALUE=DATE:20260701
DTSTAMP:20260421T111459
CREATED:20250822T110223Z
LAST-MODIFIED:20250929T071855Z
UID:10000362-1782777600-1782863999@kcjt.si
SUMMARY:Laponska
DESCRIPTION:LAPONSKA \nGledališče Koper \n  \nRežiserka: Nenni Delmestre \nIgrajo: Urška Taufer\, Luka Cimprič\, Rok Matek\, Nika Rozman \n  \nPredstava traja uro in 10 minut ter nima odmora. \nFoto: Jaka Varmuž \n  \nBOŽIČNA KOMEDIJA\, KI ODPIRA VPRAŠANJA O MEJI MED LAŽJO IN RESNICO \n  \nAvtorja komedije Laponska sta katalonska dramatičarka\, scenaristka in režiserka Cristina Clemente (1977) ter igralec\, režiser\, dramatik in scenarist Marc Angelet (1977). \n  \nDogajanje komične drame Laponska se začne na božični večer v zasneženi koči na Laponskem le nekaj trenutkov za tem\, ko štiriletna deklica\, živeča na Finskem\, pove svojemu petletnemu slovenskemu bratrancu resnico o Božičku\, kar pri dečku izzove razočaranje in žalost\, pri starših pa »razpravo« o resnici in laži\, pravici do razkritja iluzij in o nujnosti pogovorov o manj prijaznih dejstvih. Medtem ko primorski par temperamentno zagovarja življenje v iluziji in dokazuje\, da so za laganje potrebne večje intelektualne spodobnosti kot za resnico\, jima Finec očita\, da sina vzgajata v laži in da le resnica lahko osvobaja. Toda kmalu se razkrije\, da ima tudi on svojo resnico\, ki jo le s težavo prizna\, in da vsak trenutek ni primeren za njeno izrekanje. Prepir med sestrama in njunima soprogoma ter razpravo o tem\, ali neki pojav imenujemo laž ali metafora\, na koncu vendarle otopli čarobni dogodek – Aurore borealis\, naravni pojav\, ki je tako preprost za razumevanje in obenem tako čaroben v svoji lepoti\, saj v njem prepoznamo hkratnost dejstva in iluzije. \n  \nTemeljni vozel /…/: kje je meja med lažjo in resnico in ali smo se sposobni dosledno ravnati po svojih principih? Odgovor je preprost: ko se moramo soočati s problematiko\, ki se nas osebno tiče in ki nas prizadene v srčiko lastne intime\, takrat načelnost klecne. /…/ občinstvo /…/ se ne sme slepiti z navidezno lahkotnostjo uprizoritve. Ta daje v presojo vprašanja\, o katerih velja razmisliti. \n– Marij Čuk\, Primorski dnevnik
URL:https://kcjt.si/dogodek/laponska-2/
LOCATION:Trdinova dvorana
CATEGORIES:srednje šole,Uprizoritvena umetnost
ATTACH;FMTTYPE=image/jpeg:https://kcjt.si/wp-content/uploads/Laponska_Jaka-Varmuz_3.jpg
END:VEVENT
BEGIN:VEVENT
DTSTART;VALUE=DATE:20260630
DTEND;VALUE=DATE:20260701
DTSTAMP:20260421T111459
CREATED:20250822T110227Z
LAST-MODIFIED:20251001T053257Z
UID:10000363-1782777600-1782863999@kcjt.si
SUMMARY:64
DESCRIPTION:Režiserka: Nina Šorak \nIgrajo: Nika Rozman k. g.\, Jure Kopušar\, Helena Peršuh\, Radoš Bolčina\, Urška Taufer\, Gorazd Jakomini\, Blaž Valič\, Brigita Gregorič (glas) \nPredstava traja dve uri in nima odmora. \nPRODORNA DRUŽBENO-KRITIČNA UPRIZORITEV O PARU\, KI IMA TEŽAVE S SPOČETJEM OTROKA \n  \nEva in Danijel sta par\, ki si želi otroka\, a je pri tem neuspešen. Oba se približujeta štiridesetemu letu\, zaradi česar je verjetnost za uspešno oploditev vedno manjša\, pri čemer se še vedno borita za materialno eksistenco. Odločita se za obravnavo v ambulanti za neplodnost in število 64 v naslovu pomeni število hormonskih injekcij\, ki si jih mora Eva sama vbrizgati v spodnji del trebuha. Vendar tudi za ta izčrpavajoč postopek nihče ne zagotavlja\, da bo na koncu uspešen. \n  \n64\, eno zadnjih dramskih besedil sodobne hrvaške pisateljice Tene Štivičić (1977)\, je urbana drama z elementi humorja in govori o izjemno aktualni težavi\, ki se vse pogosteje pojavlja v zahodni družbi. Pari se – največkrat zaradi materialnih razlogov – vedno kasneje odločajo za prvega otroka\, kar povzroči\, da so zapleti pri nosečnosti ali celo nezmožnost zanositve čedalje bolj prisotni. Vse pogostejša je tudi neplodnost pri mlajših. Statistika kaže\, da v zahodni družbi rodnost pada\, vedno več parov je neuspešnih pri naravni zanositvi\, vedno manj je otrok. \n  \nRežiserka Nina Šorak (1985) pripada generaciji žensk\, ki je soočena z odločitvijo: otrok ali kariera. Pereče vprašanje\, ki si ga kot družba sploh ne bi smeli zastavljati\, saj bi moral biti odgovor namesto »ali-ali« odločen »in« …\, a se kljub vsemu vedno znova znajde na dnevnem redu mladih žensk\, ki povrh vsega o tem niti ne smejo govoriti\, saj je ta tematika prepredena tako s patriarhalnimi pričakovanji kot z radikalnimi feminističnimi rešitvami.
URL:https://kcjt.si/dogodek/64/
LOCATION:Trdinova dvorana
CATEGORIES:srednje šole,Uprizoritvena umetnost
ATTACH;FMTTYPE=image/webp:https://kcjt.si/wp-content/uploads/64_Peter-Uhan_4.webp
END:VEVENT
BEGIN:VEVENT
DTSTART;VALUE=DATE:20260630
DTEND;VALUE=DATE:20260701
DTSTAMP:20260421T111459
CREATED:20250825T092520Z
LAST-MODIFIED:20250929T071910Z
UID:10000372-1782777600-1782863999@kcjt.si
SUMMARY:Pek Boris in prijatelji
DESCRIPTION:različni avtorji / 2024 / 30 min filmi + spremljevalne aktivnosti / brez dialogov / 4 + / distribucija: Animateka \n  \nPISAN PROGRAM ŠESTIH KRATKIH ANIMIRANIH FILMOV\, POLNIH DOMIŠLJIJE IN SRČNIH TRENUTKOV \n  \nKIKIRIKI/Kukeleku\nJelle Janssen / Nizozemska\, Velika Britanija / 2024 \nPetelin\, ki ne zna kikirikati\, odkrije piskajočo igračo in z njo postane pravi zvezdnik kokošnjaka – dokler ne ugotovi\, da biti glavni ni vedno najbolj zabavno. \n  \nBORISOVA PEKARNA/La Boulangerie de Boris\nMaša Avramović / Francija\, Švica\, Hrvaška / 2023 \nVaški pek Boris vsako jutro speče svež hrustljav kruh in pecivo za vse sosede. Potem pa … ačih! Boris začne kihati in kar ne more nehati. Postal je alergičen na moko. Kako bo zdaj oskrboval vaščane s pekovskimi dobrotami? \n  \nOČKA JE VELIK\, JAZ SEM MAJHNA/Papa is big\, I am small \nAnya Ru\, Masha Rumyantseva / Italija\, Rusija / 2021 \nDeklica se mora posloviti od očeta mornarja\, ki odhaja na dolgo potovanje. Med njegovo odsotnostjo njena domišljija ustvarja čarobne trenutke\, ki zapolnijo praznino hrepenenja. \n  \nSOMNI\nSonja Rohleder / Nemčija / 2023 \nMala opica se poda v sanjski svet\, poln barvitih in skrivnostnih podob\, kjer se meje resničnosti zabrišejo. \n  \nBAZEN/Tümpel\nLena von Döhren\, Eva Rust / Švica / 2023 \nMali sled po nesreči konča v plitvem bazenčku in se znajde med pisanimi prebivalci morskega dna. Skupaj odkrijejo\, da lahko z malce poguma in sodelovanja premagajo vse nevarnosti. \n  \nPOLH/Dormouse \nJulia Ocker / Nemčija / 2022 \nPolh se pripravlja na praznovanje svojega rojstnega dne\, a njegovi načrti se zapletejo\, ko ga premaga neustavljiva potreba po zimskem spanju.
URL:https://kcjt.si/dogodek/pek-boris-in-prijatelji-2/
CATEGORIES:Filmska umetnost,vrtec in 1. do 3. razred OŠ
ATTACH;FMTTYPE=image/jpeg:https://kcjt.si/wp-content/uploads/2025/08/Pek-Boris-in-prijatelji.jpg
END:VEVENT
BEGIN:VEVENT
DTSTART;VALUE=DATE:20260731
DTEND;VALUE=DATE:20260801
DTSTAMP:20260421T111459
CREATED:20250814T074021Z
LAST-MODIFIED:20251010T102638Z
UID:10000315-1785456000-1785542399@kcjt.si
SUMMARY:Čuk se je oženil ... v Ameriko
DESCRIPTION:Zavod Novo mesto\, Kulturni center Janeza Trdine \n  \nIzvajajo: Ana Čop Quartet – Ana Čop\, glas; Rok Zalokar\, klavir; Žiga Smrdel\, bobni; Luka Dobnikar\, kontrabas \n  \nPredstava traja 35 minut. \nFoto: Sandra Hrovat \n  \nKAKO ZVENI IN KAJ PRIPOVEDUJE LJUDSKA PESEM V DRUGIH RITMIH \n  \nČuk se je oženil … v Ameriko je glasbena predstava\, ki ponuja sprehod skozi glasbo v jazzovskih in jazzu podobnih žanrskih preoblekah v ritmih bossa nove\, swinga\, afriških ritmov in v modernem aranžmaju sodobnega jazza in improvizacije. \n  \nRdeča nit zgodbe o čuku je vsem dobro znana ljudska pesem Čuk se je oženil. Čuk na svojem popotovanju po svetu spoznava nove prijatelje\, ki mu predstavijo\, kako glasba zveni v njihovih deželah. Odkriva nove ritme in glasbila\, otroci pa pri tem spoznavajo različne glasbene žanre in se tudi vključijo v dogajanje na odru. Gre za glasbeno pripoved\, ki prinaša osnove jazzovskega opismenjevanja\, obenem pa predšolske otroke in osnovnošolce prvih treh razredov spodbuja k spoznavanju in sprejemanju drugih kultur. \n  \nPri predstavi me je najbolj očaral glas pripovedovalke in pevke Ane Čop ter virtuozno sproščeno muziciranje inštrumentalne zasedbe. Jazzovsko obarvano glasbeno potovanje je za otroke privlačno zaradi igrivosti\, ritmične razgibanosti\, poznanosti vodilne teme iz ljudske skladbe Čuk se je oženil\, hkrati pa z vidika estetike otrokom ponudi kompleksne harmonske in improvizacijske začimbe\, ki jih otroci zaradi svoje slušne odprtosti z veseljem in navdušenjem sprejmejo.  \n– doc. dr. Katarina Habe\, Akademija za glasbo\, Univerza v Ljubljani \n  \nGlasbena predstava /…/ skozi večkulturni pristop vzbuja zavest o lastni (glasbeni) kulturi\, z glasbeno raznovrstnostjo osvešča prisotnost drugih kultur ter tako spodbuja k medsebojnemu spoštovanju in strpnosti do drugačnosti. Vključevanje občinstva v odrsko dogajanje spodbuja k aktivnemu glasbenemu izražanju in nadaljnjemu obiskovanju kulturno-umetniških dogodkov. \n– doc. dr. Katarina Zadnik\, Akademija za glasbo\, Univerza v Ljubljani \n  \nČuk se je oženil … v Ameriko udejanja enega od temeljnih ciljev kulturno-umetnostne vzgoje\, doživeti in izkusiti glasbo v avtentičnem okolju z živo izvedbo. \n– dr. Branka Rotar Pance\, Akademija za glasbo\, Univerza v Ljubljani \n  \nRadostno potovanje v svet jazza skozi vrhunsko izvedbo glasbene pravljice za otroke in (tudi) odrasle\, ki  prikliče nova glasbena doživetja\, izkušnje in spoznanja! \n– red. prof. dr. Barbara Kafol Sicherl\, Pedagoška fakulteta\, Univerza v Ljubljani
URL:https://kcjt.si/dogodek/cuk-se-je-ozenil-v-ameriko/
LOCATION:Trdinova dvorana
CATEGORIES:4. do 9. razred OŠ,Uprizoritvena umetnost,vrtec in 1. do 3. razred OŠ
ATTACH;FMTTYPE=image/jpeg:https://kcjt.si/wp-content/uploads/Cuk_se_je_ozenil_03_foto_Sandra_Hrovat.jpg
END:VEVENT
END:VCALENDAR