BEGIN:VCALENDAR
VERSION:2.0
PRODID:-//Kulturni center Janeza Trdine - ECPv6.15.12.1//NONSGML v1.0//EN
CALSCALE:GREGORIAN
METHOD:PUBLISH
X-ORIGINAL-URL:https://kcjt.si
X-WR-CALDESC:Dogodki za Kulturni center Janeza Trdine
REFRESH-INTERVAL;VALUE=DURATION:PT1H
X-Robots-Tag:noindex
X-PUBLISHED-TTL:PT1H
BEGIN:VTIMEZONE
TZID:Europe/Ljubljana
BEGIN:DAYLIGHT
TZOFFSETFROM:+0100
TZOFFSETTO:+0200
TZNAME:CEST
DTSTART:20180325T010000
END:DAYLIGHT
BEGIN:STANDARD
TZOFFSETFROM:+0200
TZOFFSETTO:+0100
TZNAME:CET
DTSTART:20181028T010000
END:STANDARD
BEGIN:DAYLIGHT
TZOFFSETFROM:+0100
TZOFFSETTO:+0200
TZNAME:CEST
DTSTART:20190331T010000
END:DAYLIGHT
BEGIN:STANDARD
TZOFFSETFROM:+0200
TZOFFSETTO:+0100
TZNAME:CET
DTSTART:20191027T010000
END:STANDARD
BEGIN:DAYLIGHT
TZOFFSETFROM:+0100
TZOFFSETTO:+0200
TZNAME:CEST
DTSTART:20200329T010000
END:DAYLIGHT
BEGIN:STANDARD
TZOFFSETFROM:+0200
TZOFFSETTO:+0100
TZNAME:CET
DTSTART:20201025T010000
END:STANDARD
BEGIN:DAYLIGHT
TZOFFSETFROM:+0100
TZOFFSETTO:+0200
TZNAME:CEST
DTSTART:20210328T010000
END:DAYLIGHT
BEGIN:STANDARD
TZOFFSETFROM:+0200
TZOFFSETTO:+0100
TZNAME:CET
DTSTART:20211031T010000
END:STANDARD
END:VTIMEZONE
BEGIN:VEVENT
DTSTART;VALUE=DATE:20200108
DTEND;VALUE=DATE:20200117
DTSTAMP:20260423T041542
CREATED:20250811T134705Z
LAST-MODIFIED:20250811T134727Z
UID:10000243-1578441600-1579219199@kcjt.si
SUMMARY:Izletniške kolonije mladih likovnikov
DESCRIPTION:Likovno nadarjeni učenci 11-ih dolenjskih osnovnih šol razstavljajo svoja slikarska dela\, ki so maja 2019 nastala na 5. Izletniški koloniji mladih likovnikov Dolenjske in Bele krajine v italijanskem Gradežu. \nIzletniške slikarske kolonije mladih likovnikov Dolenjske in Bele krajine potekajo že pet let zapovrstjo in združujejo likovne pedagoge in nadarjene učence v naši regiji.\nZadnja Izletniška kolonija mladih likovnikov je potekala 30. maja 2019 v italijanskem obmorskem mestu Gradež. Na koloniji se je zbralo 100 mladih likovnikov Dolenjske in Bele krajine iz 19-ih osnovnih šol\, od tega 49 učencev in 7 mentorjev iz 11-ih dolenjskih osnovnih šol. \nVsa slikarska dela dolenjskih nadarjenih likovnikov\, ki so nastala na zadnji koloniji\, bodo na ogled na razstavi v galeriji Kocka\, in sicer od 8. do 16. januarja 2020. Avtorji razstavljenih del prihajajo iz OŠ Grm\, OŠ Bršljin\, OŠ Stopiče\, OŠ Dolenjske Toplice\, OŠ Žužemberk\, OŠ Trebnje\, OŠ Frana Metelka Škocjan\, OŠ Šmarjeta\, OŠ Brusnice\, OŠ Toneta Pavčka in OŠ Mirna. \nIzbranim likovno nadarjenim učencem ta kolonija predstavlja enkratno\, nepozabno in bogato likovno izkušnjo\, ki jo šolski kurikul težko zajame\, prav tako pa je ni mogoče pridobiti v zaprtih prostorih šolske stavbe. Kot je v navadi\, se udeleženci kolonije odpravijo v likovno zanimiv kraj\, ki ga najprej  spoznajo v obliki vodenega ogleda. Nato si vsak likovnik izbere svoj motiv mestne vedute in prične slikati pod vodstvom mentorjev. Po zaključenem ustvarjanju na mestnih ulicah so udeleženci »nagrajeni« s prostočasnimi aktivnostmi\, kot so medsebojno druženje\, potepanje po mestu in celo kopanje v morju. \nIzletniška likovna kolonija ima velik pomen zlasti zaradi izmenjave medsebojnih izkušenj in nasvetov\, mladi likovniki spoznavajo drugačne poglede in pridobivajo nove likovne rešitve slikarskih problemov. Tudi mentorji izmenjujejo med seboj strokovne izkušnje in se ob prijetnem druženju učijo drug od drugega. Dolgoročno izletniška kolonija mladih likovnikov pomembno vpliva na krepitev likovne kulture v lokalnem okolju ter prispeva k promociji likovne dejavnosti med mladimi. \nKolonija ima že od vsega začetka svojo spletno stran\, kjer so razstavljena nastala likovna dela\, na njej pa je moč pridobiti tudi ostale informacije: http://izletniskakolonija.splet.arnes.si
URL:https://kcjt.si/dogodek/izletniske-kolonije-mladih-likovnikov/
LOCATION:Galerija KOCKA
CATEGORIES:Galerija Kocka
ATTACH;FMTTYPE=image/jpeg:https://kcjt.si/wp-content/uploads/2025/08/523333-PIUVEX-376.jpg
END:VEVENT
BEGIN:VEVENT
DTSTART;VALUE=DATE:20191206
DTEND;VALUE=DATE:20200105
DTSTAMP:20260423T041542
CREATED:20250811T134423Z
LAST-MODIFIED:20250811T134423Z
UID:10000241-1575590400-1578182399@kcjt.si
SUMMARY:Obešanje z DLUD
DESCRIPTION:Interaktivno odprtje razstave! Pridite in spoznajte vse o pripravi razstave z uveljavljenimi akademskimi slikarji iz društva DLUD.
URL:https://kcjt.si/dogodek/obesanje-z-dlud/
LOCATION:Galerija KOCKA
CATEGORIES:Galerija Kocka
ATTACH;FMTTYPE=image/jpeg:https://kcjt.si/wp-content/uploads/2025/08/vabilo.jpg
END:VEVENT
BEGIN:VEVENT
DTSTART;VALUE=DATE:20191204
DTEND;VALUE=DATE:20191207
DTSTAMP:20260423T041542
CREATED:20250811T134527Z
LAST-MODIFIED:20250811T134527Z
UID:10000242-1575417600-1575676799@kcjt.si
SUMMARY:Dobrodelna dražba umetniških slik
DESCRIPTION:OZRK leta 2019 obeležuje 20 let Sklada za\npomoč ljudem v stiski. \nOZRK leta 2019 obeležuje 20 let Sklada za pomoč ljudem v stiski.\nDOBRODELNA DRAŽBA UMETNIŠKIH SLIK\nsreda\, 4. 12. 2019\, ob 19.00\nv KCJT\, Art café in Galerija Kocka\nVoditelj: Nik Škrlec \nPo eno sliko je darovalo sedem umetnikov:\nAlojz Konec\nJože Kumer\nJože Marinč\nJožica Medle\nAndreja Schwenner\nJanko Orač\nIgor Obradinović\nTri slike sta podarila dva donatorja. Avtorji del:\nWang Huiqin\nJože Kumer\nVladimir Lamut \nZ dobrodelno dražbo OZRK zbira sredstva za plačilo položnic za najnujnejše življenjske stroške in za šolske potrebščine\, kar znese 20.000 evrov letno.\nLeta 2019 OZRK obeležuje 20 let Sklada za pomoč ljudem v stiski z različnimi dejavnostmi: razstavo največjih humanitarnih akcij\, izdajo biltena\, podelitvijo štipendij\, podelitvijo izjemnih priznanj\, dobrodelno dražbo in z drugimi dejavnosti v letu 2020.
URL:https://kcjt.si/dogodek/dobrodelna-drazba-umetniskih-slik/
LOCATION:Galerija KOCKA
CATEGORIES:Galerija Kocka
ATTACH;FMTTYPE=image/jpeg:https://kcjt.si/wp-content/uploads/2025/08/Katalog-umetniskih-slik-za-drazbo-Nisi-sam-OZ-RKS-NM-2019-1-1.jpg
END:VEVENT
BEGIN:VEVENT
DTSTART;VALUE=DATE:20191105
DTEND;VALUE=DATE:20191205
DTSTAMP:20260423T041542
CREATED:20250811T134319Z
LAST-MODIFIED:20250811T134319Z
UID:10000240-1572912000-1575503999@kcjt.si
SUMMARY:Skulpte: LJUBEZEN\, VEČNA KOT KAMEN
DESCRIPTION:Člani SKULPTE so ustvarili samostojne kamnite skulpture ob 170. obletnici smrti Prešerna ter v kamen vpisali večno ljubezen Franceta Prešerna do naše meščanke Julije Primic. \nIZ NEGIBJA KAMNA V RAZSEŽNOST \n  \n»Kaj bi lahko bilo bolj negibno kot kamen? Večina ljudi ga tako doživlja; kot nekaj starodavnega\, trdega\, hladnega\, težkega\, negibnega in anorganskega. Vse našteto je pravzaprav res\, vendar le na prvi pogled. Človek in kamen sta sopotnika le kratek čas. Naš kratek čas. Če imamo priložnost kamen pogledati od blizu\, se nam odstre cela zgodba davnega časa\, saj v plasteh\, prelomih\, vključkih in zapolnitvah najdemo številne oblike in barve\, opazimo smeri pritiskov\, vplive deževnice\, raztopljene in vnovič kristalizirane minerale\, zlepljene ruševine drugih kamnin\, najdemo sledi kotaljenja\, gibanja in gubanja. Je torej kamen res negiben? V apnencih najdemo ostanke školjk\, polžev\, iglic morskih ježkov\, alg\, koral\, včasih najdemo okostja rib\, nekateri apnenci so obarvani črno zaradi organskih ostankov odmrlih živali. Je torej kamen res mrtev? Vzemimo si čas\, oglejmo si prerezano ploskev in videli bomo presek skozi davno minulo življenje. Kdaj smo nazadnje sedeli na kamniti klopi\, ki jo je ogrelo spomladansko sonce? Je kamen res hladen? Kdaj smo se nazadnje zazrli v kamnite gube in razprta krila angelov? Je torej kamen res trd\, če zna kipar iz njega izvabiti toliko mehkobe? \nAli je kamen težek? Je. Vendar njegova teža vzbuja spoštovanje\, zlasti takrat\, ko kamen odrešimo negibnosti in mu damo razsežnost\, kot je to storila skupina ljubiteljev\, ki je z vsakim udarcev dleta odvzela kamnu košček teže in mu dodala ščepec mehkobe. \nKamen ne mara grobosti\, rad ima preudarnost\, skrbnost in natančnost. Rad ima čas\, veliko časa. Surovi moči se upira. Vztrajnost in potrpežljivost zna poplačati bodisi z mehkobo oblik bodisi z bleščečo površino. Včasih nam razrezan dovoli\, da zgladimo njegovo sredico in pogledamo\, kaj nam ponuja notranjost. Ali ste opazili\, da kamna ne moremo le gledati kot sliko? Roka nam kar sama spolzi preko površine\, poboža profil\, prsti zatipajo grobo površino\, se rahlo odmaknejo in pogladijo zaobljeni rob. Le kdor kamen obdeluje in ga na ta način spoznava\, ve\, koliko mu ta lahko da. \nOb ogledu izdelkov je čutiti\, koliko občutenj so ustvarjalci vložili vanje s svojim delom in koliko jim je kamen dal. Tako oplemeniteni izdelki bodo umeščeni v okolje zaživeli novo življenje\, opazovalcem v veselje in ustvarjalcem v ponos. Želimo si\, da bi čim več negibnih lepot\, ki jih še skriva zemlja\, s pomočjo ustvarjalcev dobilo nove razsežnosti.« \n  \nTe besede je zapisala Maja Štembal Capuder\, predsednica Društva ljubiteljev slovenskega naravnega kamna\, Ljubljana\, katerega člani smo tudi ustvarjalci Društva SKULPTE. \n  \nDruštvo likovnih ustvarjalcev v kamnu SKULPTE je bilo ustanovljeno pred tremi leti kot nadaljevanje večletnega ustvarjanja skupine ljubiteljev slovenskega kamna\, kot medija za obdelavo\, saj s svojo lepoto\, barvitostjo\, plemenitostjo in enkratnostjo zavzema v našem okolju prav posebno mesto. Društvo šteje 15 članov\, trije pa smo tudi člani Društva Severin Šali. \nLjubezen do kamna nas je kot izrazni medij zelo hitro pritegnila in osvojila\, zato smo pred več leti začeli ustvarjati v kamnoseško-restavratorski delavnici v Zagradu\, kjer svoje zamisli uresničujemo ob podpori znanja obdelave kamna mojstra in restavratorja Francija Kocjana. Motivno promoviramo novomeške in ostale zgodbe in jim s svojim ustvarjalnim prizadevanjem v domačem kamnu dodajamo vsebino in pomen. \nSvoja dela smo predstavili na več odmevnih likovnih razstavah po Sloveniji. \nUstvarili smo kar nekaj prepoznavnih samostojnih in skupinskih projektov. \n  \n– KAMNITA FORMA VIVA 2005 ob Ulici Slavka Gruma v Novem mestu zajema 9 kamnitih skulptur\, ki so postavljene od Osnovne šole Drska do Splošne bolnišnice Novo mesto. Z njo smo počastili Trdinovo leto in Mesto situl. Obeležuje jih informativna turistična tabla. \n– Kamnita miza VEZ GENERACIJ pred Humanitarnim centrom na Drski. \n– Kamnite klopi SITULSKA PRIPOVED V KAMNU\, ki so nastale ob praznovanju 650. obletnice ustanovitve Novega mesta in so z Glavnega trga prestavljene na Muzejske vrtove. \n– PARK MLADOSTI\, ki je nastal ob praznovanju 200. obletnice rojstva Julije Primic in 100. obletnice železniške proge Novo mesto–Metlika zajema mizo z mozaikom\, klopmi in kipom JULIJE PRIMIC\, seveda z motivi situlske umetnosti. \n– JANTARNI ZAPIS V KAMNU (kamniti prestol z jantarjem\, miza z upodobitvijo jantarne poti in s klopmi) smo posvetili praznovanju Jantarnega leta v Novem mestu. \n– ŠKUPANJE v Beli krajini\, kjer smo na kamniti mizi z vklesom prikazali obred škupanja\, pripravo slame za slamnato streho. \n  \nVsako leto člani SKULPTE ustvarimo poleg skupinskih projektov tudi samostojne kamnite skulpture na določeno temo. Lansko leto je bila to DOTIK ŠPORTA V KAMNU\, v letošnjem letu smo se ob 170. obletnici smrti Prešerna odločili za tematiko Franceta Prešerna in naše meščanke Julije Primic. Nastala dela bomo kot vsako leto predstavili na tematski razstavi v Kulturnem centru Janeza Trdine v Novem mestu\, februarja prihodnje leto pa ob kulturnem prazniku v Državnem svetu RS. \n  \nPri ustvarjalnem delu nas spremlja tudi naš član SKULPTE – novomeški pesnik Smiljan Trobiš\, ki svoje vtise ob nastalih kiparskih delih ponazori s poezijo. \n  \nPrav tako naše delo že vrsto let likovno ocenjuje naš član – umetnostni zgodovinar Jožef Matijevič\, ki je o naših kamnitih skupinskih projektih napisal: \n»Obdelovanje in oblikovanje kamna za različne namene je fenomen\, ki spremlja človeka od njegovih začetkov pa vse do danes. V povezavi človeka s kamnom so se rojevale številne zamisli\, ki so navdihovale in še danes navdihujejo oblikovalce kamnitih gmot\, saj je sleherna pomembna civilizacija skrbno negovala večnamensko praktično in estetsko obdelavo različnih vrst kamna. Kiparjevo delo sodimo po tem\, v kakšni meri nam posreduje lastne občutke za črto\, ploskev\, volumen\, simetrijo\, ritem in proporce. \nPo teh načelih so se ravnali dosledno tudi člani Društva likovnih ustvarjalcev v kamnu SKULPTE NOVO MESTO\, ki so nase opozorili z izvedbo monumentalnega projekta\, ki obsega pet med seboj povezanih stičnih točk. \nV ta sklop sodijo skulpture KAMNITA FORMA VIVA na Ulici Slavka Gruma\, KAMNITE KLOPI na Muzejskih vrtovih\, kjer so kiparji z izbranim motivom na istem kraju in istočasno oživili geološko in človeško preteklost\, ki se razodeva z motivi človeških in živalskih figur v preprosti stilizirani formi\, s katerimi so krasili situle\, prazgodovinske obredne pivske posode v obliki vedric. Omenjeni motivni izbor predstavlja rdečo nit skozi celoten projekt\, zato se z njim srečamo tudi pred Humanitarnim centrom RK Novo mesto (KAMNITA MASIVNA MIZA v Parku medgeneracijske solidarnosti)\, v PARKU MLADOSTI so se poklonili spominu Prešernove muze Julije s kipom po Langusovi slikarski predlogi. Okrogla miza v tem sklopu je zanimiva tudi po domiselni tehnološki izvedbi. Njen obod je namreč narejen iz masivnega litoželeznega pogonskega kolesa parne lokomotive\, ki je vozila na progi Novo mesto–Metlika\, noga pa je – tako kot tudi nosila klopi okoli mize – okrašena z motivi situlske umetnosti. Ciklus projekta sklene JANTARNI ZAPIS V KAMNU\, postavljen pred avtobusno postajo. Ustvarjalno delo bodo nadaljevali ob sprehajalni poti Portovald s postavitvijo POVODNEGA MOŽA NA KRKI in klopmi\, s tematiko\, povzeto po bajkah in ljudskem izročilu.« \n  \nProf. dr. Josip Korošec pravi: »Odnos do kamna je tudi odnos do časa. Kamen je eden temeljnih prvin\, ki nam omogoča spoznati samega sebe.« \nO naših projektih pa je med drugim napisal: »Kljub časovni oddaljenosti oba likovna dogodka pomenita spontano nastalo celoto\, v kateri pobude preteklosti in nuja po izražanju soustvarjajo pravo sedanjost; v njej ima naravni kamen nedvomno svoj usodni pomen.« \n  \nPred nedavnim me je ob nekem kulturnem dogodku predsednik Borut Pahor vprašal\, če kamen res joka. Spomnila sem se besed Georgija Plehanova: »Z besedami predajamo svoje misli\, z umetnostjo pa svoja čustva.« Ustvarjalci v kamnu in člani SKULPTE kamen zelo spoštujemo in vanj pri pozorni obdelavi predajamo veliko svojih čustev. In če povzamem besede Maje Štembal Capuder\, da je kamen odraz naše preteklosti\, ki dovoli iz sebe izvabljati mehkobo\, se pojavlja v mnogih različnih barvnih odtenkih\, je živ\, topel\, občutljiv in ljubi pozornost umetnika – potem kamen lahko tudi joka … \n  \nJožica Škof
URL:https://kcjt.si/dogodek/skulpte-ljubezen-vecna-kot-kamen/
LOCATION:Galerija KOCKA
CATEGORIES:Galerija Kocka
ATTACH;FMTTYPE=image/jpeg:https://kcjt.si/wp-content/uploads/2025/08/IMG_4374.jpg
END:VEVENT
BEGIN:VEVENT
DTSTART;VALUE=DATE:20190930
DTEND;VALUE=DATE:20191105
DTSTAMP:20260423T041542
CREATED:20250811T134222Z
LAST-MODIFIED:20250811T134222Z
UID:10000239-1569801600-1572911999@kcjt.si
SUMMARY:GRAFIKA TREH / Čavrk\, Mirtič\, Orač
DESCRIPTION:Producent DLUD \nNa razstavi z naslovom Grafika treh se bodo predstavili trije novomeški grafični umetniki: Hamo Čavrk\, Nataša Mirtič in Janko Orač. \nHamo Čavrk  (1950\, Sarajevo) je diplomiral na Likovni akademiji v Sarajevu\, smer kiparstvo. Iz grafike je magistriral na Akademiji za likovno umetnost v Ljubljani. Za grafiko pravi\, »da je večna od prvega odtisa v jami do današnjih sodobnih tehnik. Grafika ima enako pomembnost v umetnosti kot vse tehnike\, ki jih srečujemo v likovni umetnosti.« \nNataša Mirtič (1973\, Novo mesto) je diplomirala na oddelku za slikarstvo na Akademiji za likovno umetnost v Ljubljani in tam končala tudi magistrski študij grafike pri prof. Lojzetu Logarju. Za ustvarjanje v žlahtnih grafičnih tehnikah v današnjem zdigitaliziranem svetu pravi\, »da ga jemlje kot velik privilegij. Grafika ne dopušča hitenja in površnosti\, grafični atelje tako postane prostor\, kjer se je moč upreti hitremu življenjskemu tempu.« \nJanko Orač (1958\, Celje) je diplomiral na Šoli za risanje in slikanje v Ljubljani in zaključil  podiplomski študij grafike na Akademiji za likovno umetnost v Zagrebu. Za Janka je bistvo grafike »sled\, ki jo gradi vsak umetnik (grafik) na grafični matrici ter kot vrh gore\, ki zasveti na grafičnem listu. Sledi pa so vidne takrat\, ko jih opazimo v našem in širšem okolju\, ko postanejo naša resničnost.«
URL:https://kcjt.si/dogodek/grafika-treh-cavrk-mirtic-orac/
LOCATION:Galerija KOCKA
CATEGORIES:Galerija Kocka
ATTACH;FMTTYPE=image/jpeg:https://kcjt.si/wp-content/uploads/2025/08/DSC_1054.jpg
END:VEVENT
BEGIN:VEVENT
DTSTART;VALUE=DATE:20190913
DTEND;VALUE=DATE:20191001
DTSTAMP:20260423T041542
CREATED:20250811T134038Z
LAST-MODIFIED:20250811T134038Z
UID:10000238-1568332800-1569887999@kcjt.si
SUMMARY:Podvodna fotografija 2019
DESCRIPTION:Producent Klub za podvodne aktivnosti Novo mesto \nVsako leto v Klubu za podvodne aktivnosti Novo mesto med člani izvedejo natečaj za najboljšo podvodno fotografijo. Kar nekaj članov med njimi se intenzivno in ljubiteljsko ukvarja s fotografijo\, nekateri med njimi pa so tudi dobitniki različnih nagrad. \n*** \nV Novem mestu so bili potapljači organizirani med prvimi v Sloveniji. Sprva je klub združeval predvsem potapljače plavalce\, kasneje pa je razvil še številne aktivnosti ter zadnjih štirideset let ves čas aktivno deloval v Slovenskem in širšem prostoru\, KPA Novo mesto je celo med ustanovnimi člani Slovenske Potapljaške Zveze.\nSkozi izobraževalne programe KPA Novo mesto je šlo že veliko Novomeščanov ter na ta način skozi leta uraslo in približalo podvodni svet tudi ostalim prebivalcem Novega mesta. \nKPA je finančno samostojen in dobro opremljen klub\, prav tako pa je v njem zbrana tudi vrhunsko opremljena reševalna ekipa. \nDoživeli so vzpone in padce. Skozi leta so klubu pri njegovem delovanju pomagali številni posamezniki in podjetja in člani kluba se zavedajo\, da brez tovrstne pomoči someščanov ne bi šlo. \nBili so prvaki v več potapljaških športnih panogah in organizatorji evropskega tekmovanja v hitrostnem plavanju v Dolenjskih toplicah. Sodelujejo z različnimi interesnimi skupnostmi od šol do tabornikov ter z veseljem učijo ter vzgajajo mlade k ljubezni in spoštovanju voda ter življenja v njih. \nPod okriljem Slovenske potapljaške zveze redno organizirajo in izvajajo številne okoljevarstvene in čistilne akcije ter skrbijo za urejeno rečno dno reke Krke v Novem mestu. Radi poudarijo\, da so in bodo živeli v tem prostoru in za ta prostor. \nV Kocki gostimo izbor podvodnih fotografij članov KPA Novo mesto. Vljudno vabljeni na ogled svetov\, kakršni so skriti pod gladino zelene lepotice! \n  \n. \nFotografije z odprtja razstave je prispeval Jaka Šuln
URL:https://kcjt.si/dogodek/podvodna-fotografija-2019/
LOCATION:Galerija KOCKA
CATEGORIES:Galerija Kocka
ATTACH;FMTTYPE=image/jpeg:https://kcjt.si/wp-content/uploads/2025/08/FB_IMG_1567054676292.jpg
END:VEVENT
BEGIN:VEVENT
DTSTART;VALUE=DATE:20190610
DTEND;VALUE=DATE:20190820
DTSTAMP:20260423T041542
CREATED:20250811T133636Z
LAST-MODIFIED:20250811T133749Z
UID:10000237-1560124800-1566259199@kcjt.si
SUMMARY:Domen Šega: PORNO NOIR
DESCRIPTION:
URL:https://kcjt.si/dogodek/domen-sega-porno-noir/
LOCATION:Galerija KOCKA
CATEGORIES:Galerija Kocka
ATTACH;FMTTYPE=image/jpeg:https://kcjt.si/wp-content/uploads/2025/08/BLACK_PORNO.jpg
END:VEVENT
BEGIN:VEVENT
DTSTART;VALUE=DATE:20190408
DTEND;VALUE=DATE:20190812
DTSTAMP:20260423T041542
CREATED:20250811T133354Z
LAST-MODIFIED:20250811T141454Z
UID:10000236-1554681600-1565567999@kcjt.si
SUMMARY:Hamo Čavrk: CARTA INCOGNITA
DESCRIPTION:Struktura likovne govorice je avtonomna vsebina\, ki je za razumevanje videnega povsem dovolj. Besedne interpretacije so sicer priročno orodje\, katerih vrednost pogosto temelji tudi na strokovnih avtoritetah avtorjev. \nNe glede na to\, koliko se približajo bistvu\, pa venomer ostajajo nadomestek\, ostajajo prevod ene izraznosti v drugo. Strukturo likovnega je možno interpretirati tudi\, kot bi dejal Zoran Didek\, skozi raziskovanje oblikotvornosti\, s piko\, črto\, barvo\, ploskvijo in drugimi likovnimi elementi. Ta vprašanja že desetletja angažirajo tudi izraznost Hama Čavrka. Potrpežljivo se sprehaja po površinah papirja ali platna\, izrazito objektno poseže v modulacijo prostora\, ali pa črto išče v svetlobi projekcijskega žarka. Z različnimi mediji dosega seveda različne rezultate likovne objasnitve in jih sistematično kartografira. Na razstavi v galeriji Kocka se tokrat predstavlja s serijo slik\, izvedenih v akrilni barvi na platna\, in na njih za razliko od grafičnih listov veliko intenzivneje dosega ekspresivne barvne napetosti prostora v ozadju. Ta v korespondenci s primarno postavljenimi neskončnimi linijami\, ki prostor geometrijsko determinirajo\, dela v celoti dinamizirajo. Dinamične vizije prostora delujejo toplo in domače\, znotraj njihovih struktur pa je v nekaj zadnjih delih moč slutiti strukturo arhetipskih form. Če v linijah\, ki prehajajo likovno polje\, zgolj slutimo neskončnost\, je ta v krogih\, ki so se začela pojavljati na platnih\, elementarno vsebovana. Ta forma pa prostor še dodatno opredeli tudi kot telesnina. Na ta način Čavrk prikaže enigmatičnost prostora\, s harmonično uravnoteženostjo med barvami in oblikami pa v gledalcu sprošča lirično ugodje in mu omogoča potovanja v neznano. \n  \nGoran Milovanović
URL:https://kcjt.si/dogodek/hamo-cavrk-carta-incognita/
LOCATION:Galerija KOCKA
CATEGORIES:Galerija Kocka
ATTACH;FMTTYPE=image/jpeg:https://kcjt.si/wp-content/uploads/2025/08/Hamo-CAVRK.jpg
END:VEVENT
BEGIN:VEVENT
DTSTART;VALUE=DATE:20190125
DTEND;VALUE=DATE:20190407
DTSTAMP:20260423T041542
CREATED:20250811T133153Z
LAST-MODIFIED:20250811T133153Z
UID:10000235-1548374400-1554595199@kcjt.si
SUMMARY:Jože Marinč: Kaplja
DESCRIPTION:Jože Marinč je predstavnik tiste generacije\, ki je v zadnji četrtini dvajsetega stoletja v slovenski umetnosti utrdila estetiko visokega modernizma. \n* \nV tej prvenstveno abstraktni smeri ni šlo več za opozicijo figuralike in abstrakcije\, ki je ob nastopu abstraktne umetnosti dobila pomen politične polarizacije\, temveč za prepričanje\, da je z oblikami in barvami mogoče izraziti človekova najgloblja in najbolj pretanjena občutja. Ne občutja človeške vrste temveč čustvovanja in najintimnejše izkušnje posameznika\, ki v umetniškem ustvarjanju išče sebi lasten in prepoznaven izraz. Doživetja in izkušnje edinstvene\, enkratne in neponovljive človeške psihe so dobila v zahodni kulturi posebno mesto\, postala so družbena vrednota\, vredna občudovanja in podoživljanja. \nV Marinčevem zadnjem ustvarjalnem obdobju se srečujemo s kapljevinami\, s tehniko\, ki je slikarjev lastni izum in nam še ni dan vpogled v način nastajanja njegovih zadnjih del.
URL:https://kcjt.si/dogodek/joze-marinc-kaplja/
LOCATION:Galerija KOCKA
CATEGORIES:Galerija Kocka
ATTACH;FMTTYPE=image/jpeg:https://kcjt.si/wp-content/uploads/2025/08/P1000461.jpg
END:VEVENT
END:VCALENDAR