BEGIN:VCALENDAR
VERSION:2.0
PRODID:-//Kulturni center Janeza Trdine - ECPv6.15.12.1//NONSGML v1.0//EN
CALSCALE:GREGORIAN
METHOD:PUBLISH
X-ORIGINAL-URL:https://kcjt.si
X-WR-CALDESC:Dogodki za Kulturni center Janeza Trdine
REFRESH-INTERVAL;VALUE=DURATION:PT1H
X-Robots-Tag:noindex
X-PUBLISHED-TTL:PT1H
BEGIN:VTIMEZONE
TZID:Europe/Ljubljana
BEGIN:DAYLIGHT
TZOFFSETFROM:+0100
TZOFFSETTO:+0200
TZNAME:CEST
DTSTART:20250330T010000
END:DAYLIGHT
BEGIN:STANDARD
TZOFFSETFROM:+0200
TZOFFSETTO:+0100
TZNAME:CET
DTSTART:20251026T010000
END:STANDARD
BEGIN:DAYLIGHT
TZOFFSETFROM:+0100
TZOFFSETTO:+0200
TZNAME:CEST
DTSTART:20260329T010000
END:DAYLIGHT
BEGIN:STANDARD
TZOFFSETFROM:+0200
TZOFFSETTO:+0100
TZNAME:CET
DTSTART:20261025T010000
END:STANDARD
BEGIN:DAYLIGHT
TZOFFSETFROM:+0100
TZOFFSETTO:+0200
TZNAME:CEST
DTSTART:20270328T010000
END:DAYLIGHT
BEGIN:STANDARD
TZOFFSETFROM:+0200
TZOFFSETTO:+0100
TZNAME:CET
DTSTART:20271031T010000
END:STANDARD
END:VTIMEZONE
BEGIN:VEVENT
DTSTART;TZID=Europe/Ljubljana:20260514T080000
DTEND;TZID=Europe/Ljubljana:20260514T170000
DTSTAMP:20260424T171708
CREATED:20260423T080907Z
LAST-MODIFIED:20260423T080909Z
UID:10000486-1778745600-1778778000@kcjt.si
SUMMARY:Veveriček posebne sorte
DESCRIPTION:Plesni Teater Ljubljana \n  \nAvtorica zgodbe: Svetlana Makarovič \nAvtorica priredbe in režiserka: Ivana Djilas \nSoustvarjalci in izvajalci: Maša Kagao Knez\, Blaž Celarec\, Vito Weis\, Joseph Nzobandora-Jose \n  \n  \nPredstava traja 45 minut. \nFoto: Drago Videmšek \n  \nPLESNO-GLASBENO-GLEDALIŠKA PREDSTAVA O LEPOTI IN KREATIVNOSTI\, KI SE RAZVIJETA IZ OMEJENOSTI \n  \nV gozdu je najpomembnejše gibanje\, tudi za mamo veverico in njene veveričke. Tekajo\, skačejo z veje na vejo in se lovijo. Potem pa se rodi veveriček\, ki ga tačke ne ubogajo. Veveriček posebne sorte. Zaradi svoje drugačnosti je sprva izključen iz družbe\, pozneje pa dobi v gozdu prav posebno mesto\, saj se nauči drugih spretnosti: štetja lešnikov\, napovedovanja vremena po oblakih\, petja\, pripovedovanja … \n  \nPravljico Veveriček posebne sorte sta pisateljica Svetlana Makarovič (1939) in ilustrator Marjan Manček (1948) posvetila otrokom s cerebralno paralizo. Spomniti sta nas hotela\, kako gibanje jemljemo za samoumevno\, vse dokler se ne pojavijo težave z njim. \n  \n  \nKako ponosna bo mama\, mama Puhanka!  \nKo bodo mladičkom zrasli puhasti kožuščki in košati repki.  \nKako ponosna bo mama\, mama Puhanka! \nKo se bodo njihove črne očke odprle in se radovedno v svet zazrle.  \nKako ponosna bo mama\, mama Puhanka!  \nKaj pa to? Ko pride čas za prvi skok na bližnje drevo!  \nKako ponosna bo mama\, mama Puhanka!  \nIn ko bodo malčki znali oglodati storž za čisto petico\,  \nin ga zalučati tako\, da bo priletel lisici naravnost na betico!  \nKako ponosna bo mama\, mama Puhanka!
URL:https://kcjt.si/dogodek/vevericek-posebne-sorte-5/
LOCATION:Trdinova dvorana
CATEGORIES:Gledališče,Mojčin abonma
ATTACH;FMTTYPE=image/jpeg:https://kcjt.si/wp-content/uploads/Vevericek-posebne-sorte_Drago-Videmsek_4.jpg
END:VEVENT
BEGIN:VEVENT
DTSTART;TZID=Europe/Ljubljana:20260515T170000
DTEND;TZID=Europe/Ljubljana:20260516T170000
DTSTAMP:20260424T171708
CREATED:20250813T215418Z
LAST-MODIFIED:20260423T080740Z
UID:10000488-1778864400-1778950800@kcjt.si
SUMMARY:Veveriček posebne sorte
DESCRIPTION:Plesni Teater Ljubljana \n  \nAvtorica zgodbe: Svetlana Makarovič \nAvtorica priredbe in režiserka: Ivana Djilas \nSoustvarjalci in izvajalci: Maša Kagao Knez\, Blaž Celarec\, Vito Weis\, Joseph Nzobandora-Jose \n  \n  \nPredstava traja 45 minut. \nFoto: Drago Videmšek \n  \nPLESNO-GLASBENO-GLEDALIŠKA PREDSTAVA O LEPOTI IN KREATIVNOSTI\, KI SE RAZVIJETA IZ OMEJENOSTI \n  \nV gozdu je najpomembnejše gibanje\, tudi za mamo veverico in njene veveričke. Tekajo\, skačejo z veje na vejo in se lovijo. Potem pa se rodi veveriček\, ki ga tačke ne ubogajo. Veveriček posebne sorte. Zaradi svoje drugačnosti je sprva izključen iz družbe\, pozneje pa dobi v gozdu prav posebno mesto\, saj se nauči drugih spretnosti: štetja lešnikov\, napovedovanja vremena po oblakih\, petja\, pripovedovanja … \n  \nPravljico Veveriček posebne sorte sta pisateljica Svetlana Makarovič (1939) in ilustrator Marjan Manček (1948) posvetila otrokom s cerebralno paralizo. Spomniti sta nas hotela\, kako gibanje jemljemo za samoumevno\, vse dokler se ne pojavijo težave z njim. \n  \n  \nKako ponosna bo mama\, mama Puhanka!  \nKo bodo mladičkom zrasli puhasti kožuščki in košati repki.  \nKako ponosna bo mama\, mama Puhanka! \nKo se bodo njihove črne očke odprle in se radovedno v svet zazrle.  \nKako ponosna bo mama\, mama Puhanka!  \nKaj pa to? Ko pride čas za prvi skok na bližnje drevo!  \nKako ponosna bo mama\, mama Puhanka!  \nIn ko bodo malčki znali oglodati storž za čisto petico\,  \nin ga zalučati tako\, da bo priletel lisici naravnost na betico!  \nKako ponosna bo mama\, mama Puhanka!
URL:https://kcjt.si/dogodek/vevericek-posebne-sorte/2026-05-15/
LOCATION:Trdinova dvorana
CATEGORIES:Gledališče,Mojčin abonma
ATTACH;FMTTYPE=image/jpeg:https://kcjt.si/wp-content/uploads/Vevericek-posebne-sorte_Drago-Videmsek_4.jpg
END:VEVENT
BEGIN:VEVENT
DTSTART;TZID=Europe/Ljubljana:20260601T200000
DTEND;TZID=Europe/Ljubljana:20260601T200000
DTSTAMP:20260424T171708
CREATED:20250813T200531Z
LAST-MODIFIED:20260423T080516Z
UID:10000297-1780344000-1780344000@kcjt.si
SUMMARY:Zakaj sva se ločila
DESCRIPTION:Katarina Morano \nZAKAJ SVA SE LOČILA \nMestno gledališče ljubljansko \nRežiser: Žiga Divjak \nIgrata: Jana Zupančič\, Matej Puc \nPredstava traja 2 uri in 15 minut ter nima odmora. \nFoto: Peter Giodani \n  \nNAJINTIMNEJŠI ZEMLJEVID PARTNERSKEGA ODNOSA DVEH SODOBNIH LJUDI \nČe bi dolgoletni odnos med dvema človekoma lahko prečno prerezali in ga opazovali kot nekakšno materijo\, bi se pred nami verjetno izrisali koncentrični kolobarji\, podobni tistim\, ki jih ugledamo\, ko posekamo drevo – pokazal bi se nanos plasti\, ki so se skozi leta nalagale druga na drugo ali druga ob drugo. To so bila leta in leta in leta občutkov\, dogodkov\, upov\, pričakovanj\, načrtov\, presenečenj\, lahkotnosti\, teže\, pritiskov\, sprememb\, mirovanj\, vzponov\, padcev\, prepirov in sprav. \nV drami Zakaj sva se ločila nas mož in žena popeljeta preko svojih »letnic« – vsak s svoje perspektive nas vodita preko ključnih in naključnih točk iz zgodovine svojega sobivanja\, da bi lahko razumela\, kaj se jima je zgodilo. Kje se skladiščijo vse te na videz drobne zamere in zakaj je pomembno\, kdo je rekel\, da iz avtomata ni treba vzeti parkirnega listka ali da je mleka doma zagotovo dovolj? Kdo je navijal\, da posvojita psa in kdo ga zdaj vodi na sprehod? Kdo po tuširanju nikoli ne pobriše mokrih tal in kdo zna edini pravilno zložiti posodo v pomivalni stroj? Kdo je že takoj rekel\, da je zložljive komarnike nemogoče očistiti in kdo vedno pušča odprte predale? Kdo je nekoč želel objadrati svet\, zdaj pa se mu ne ljubi niti peš iz Spodnje Šiške do središča Ljubljane? Kdo se je včasih ure in ure igral z nečaki\, zdaj se mu pa z lastnim otrokom ne da niti barvati pobarvanke? Kdo je včasih požiral gore knjig\, zdaj pa samo še »skrola« po Instagramu? In zakaj bi imel tisti\, ki si še vedno zna vzeti čas za telovadbo\, pivo ali koncert\, slabo vest\, ker drugi tega pač ne zna? Zakaj se več ne pogovarjata in kako se jima je zgodilo\, da sta se znašla v stereotipu »dnevi so dolgi in leta kratka«? Kdo se je spremenil in kdo je pokazal svoje prave barve? Kakšne leteče sanje sta imela in kje sta pristala? Kako sta sploh prišla do sem?
URL:https://kcjt.si/dogodek/radost/
LOCATION:Trdinova dvorana
CATEGORIES:Abonmaji,Gledališče,Grumov abonma
ATTACH;FMTTYPE=image/jpeg:https://kcjt.si/wp-content/uploads/Zakaj-sva_2000x1250px_foto-Peter-Giodani_3376.jpg
END:VEVENT
END:VCALENDAR