BEGIN:VCALENDAR
VERSION:2.0
PRODID:-//Kulturni center Janeza Trdine - ECPv6.15.12.1//NONSGML v1.0//EN
CALSCALE:GREGORIAN
METHOD:PUBLISH
X-ORIGINAL-URL:https://kcjt.si
X-WR-CALDESC:Dogodki za Kulturni center Janeza Trdine
REFRESH-INTERVAL;VALUE=DURATION:PT1H
X-Robots-Tag:noindex
X-PUBLISHED-TTL:PT1H
BEGIN:VTIMEZONE
TZID:Europe/Ljubljana
BEGIN:DAYLIGHT
TZOFFSETFROM:+0100
TZOFFSETTO:+0200
TZNAME:CEST
DTSTART:20250330T010000
END:DAYLIGHT
BEGIN:STANDARD
TZOFFSETFROM:+0200
TZOFFSETTO:+0100
TZNAME:CET
DTSTART:20251026T010000
END:STANDARD
BEGIN:DAYLIGHT
TZOFFSETFROM:+0100
TZOFFSETTO:+0200
TZNAME:CEST
DTSTART:20260329T010000
END:DAYLIGHT
BEGIN:STANDARD
TZOFFSETFROM:+0200
TZOFFSETTO:+0100
TZNAME:CET
DTSTART:20261025T010000
END:STANDARD
BEGIN:DAYLIGHT
TZOFFSETFROM:+0100
TZOFFSETTO:+0200
TZNAME:CEST
DTSTART:20270328T010000
END:DAYLIGHT
BEGIN:STANDARD
TZOFFSETFROM:+0200
TZOFFSETTO:+0100
TZNAME:CET
DTSTART:20271031T010000
END:STANDARD
END:VTIMEZONE
BEGIN:VEVENT
DTSTART;TZID=Europe/Ljubljana:20260505T193000
DTEND;TZID=Europe/Ljubljana:20260505T193000
DTSTAMP:20260424T171709
CREATED:20250813T203113Z
LAST-MODIFIED:20260416T051055Z
UID:10000302-1778009400-1778009400@kcjt.si
SUMMARY:Komorni svet Johannesa Brahmsa
DESCRIPTION:TRIO GUSTAV \nČlani tria: Francesco Comisso\, violina; Dario Destefano\, violončelo; Olaf John Laneri\, klavir \nGosta: Lorenzo Guzzoni\, klarinet; Boštjan Lipovšek\, rog \nFoto: Jacopo Bertoncello\, Ettore Causa\, Walter Garosi \nKOMORNI SVET JOHANNESA BRAHMSA – VEČER ENERGIJE IN ELEGANCE \n  \nViolončelist Dario Destefano in violinist Francesco Comisso sta ustanovila Trio Gustav\, da bi nadaljevala dolgoletno umetniško druženje\, ki se je izrazilo v nekdanjem klavirskem triu\, v katerem sta gostila mednarodno priznanega pianista Olafa Johna Lanerija. V tej novi zasedbi so trije interpreti našli skupno točko\, v kateri dialog med njimi izhaja iz kulta zvoka in spoštovanja oblike. Značilna italijanska instrumentalna virtuoznost in mednarodne koncertne izkušnje vseh treh izvajalcev se združujejo v trdno in iskreno vez v želji\, da bi bil vsak nastop nabit z energijo in interpretativno eleganco. \nZa tokratni koncertni večer so izbrali dela mojstra kontrapunkta Johannesa Brahmsa\, ki ga pogosto štejejo hkrati za tradicionalista in inovatorja. Njegova glasba je trdno zasidrana v strukturah in kompozicijski tehniki baročnih in klasičnih mojstrov. Medtem ko so mnogi sodobniki menili\, da je Brahmsova glasba preveč »akademska«\, so bila njegova dela izhodišče in navdih za celo generacijo skladateljev. V slabih štiridesetih letih svojega delovanja je napisal pet triov za različne zasedbe. Trem od teh bomo prisluhnili na tokratnem koncertu. V ta namen sta se glasbenikom Tria Gustav pridružila klarinetist Lorenzo Guzzoni in rogist Boštjan Lipovšek\, oba priznana glasbenika\, ki sodelujeta z vodilnimi evropskimi orkestri\, sicer pa sta zelo aktivna kot solistična in kot komorna glasbenika. Oba poučujeta na glasbenih akademijah oziroma konservatorijih. \nProgram: \nJOHANNES BRAHMS (1833 ̶ 1897) \nTrio v c-molu n. 3 op. 101\, za violino\, violončelo in klavir  \nTrio v a-molu op. 114\, za klarinet\, violončelo in klavir \nTrio v Es-Duru op. 40\, za violino\, rog in klavir
URL:https://kcjt.si/dogodek/komorni-svet-johannesa-brahmsa/
LOCATION:Trdinova dvorana
CATEGORIES:Abonmaji,Glasba,Kozinov abonma
ATTACH;FMTTYPE=image/jpeg:https://kcjt.si/wp-content/uploads/TRIO-GUSTAV-2019©Walter_Garosi_08.jpg
END:VEVENT
END:VCALENDAR